BEGIN:VCALENDAR
VERSION:2.0
PRODID:Fort Bend County, TX Calendar Creator
METHOD:PUBLISH
BEGIN:VEVENT
DTSTAMP:20250702T041238
DTSTART:20250703T060000
DTEND:20250703T090000
SUMMARY:Popsicles in the Park
DESCRIPTION:<h3 class="style-heading3 text-align-center">Celebrating National Parks &amp; Recreation Month!</h3>

<h2 class="style-heading2 text-align-center">Popsicles in the Park</h2>

<p class="text-align-
CLASS:PUBLIC
END:VEVENT
END:VCALENDAR
